BEGIN:VCALENDAR
VERSION:2.0
PRODID:-//Squarespace Inc/Squarespace 6//v6//EN
BEGIN:VEVENT
UID:51c9226ae4b0f0514253537c@squarespace.com
DTSTAMP:20130706T050633Z
DTSTART:20130727T140000Z
DTEND:20130805T173000Z
SUMMARY:The North Sydney Art Prize Exhibition
END:VEVENT
END:VCALENDAR
